BEGIN:VCALENDAR
VERSION:2.0
PRODID:-//La Reata Ranch - ECPv6.15.20//NONSGML v1.0//EN
CALSCALE:GREGORIAN
METHOD:PUBLISH
X-WR-CALNAME:La Reata Ranch
X-ORIGINAL-URL:https://lareataranch.org
X-WR-CALDESC:Events for La Reata Ranch
REFRESH-INTERVAL;VALUE=DURATION:PT1H
X-Robots-Tag:noindex
X-PUBLISHED-TTL:PT1H
BEGIN:VTIMEZONE
TZID:America/Chicago
BEGIN:DAYLIGHT
TZOFFSETFROM:-0600
TZOFFSETTO:-0500
TZNAME:CDT
DTSTART:20220313T080000
END:DAYLIGHT
BEGIN:STANDARD
TZOFFSETFROM:-0500
TZOFFSETTO:-0600
TZNAME:CST
DTSTART:20221106T070000
END:STANDARD
BEGIN:DAYLIGHT
TZOFFSETFROM:-0600
TZOFFSETTO:-0500
TZNAME:CDT
DTSTART:20230312T080000
END:DAYLIGHT
BEGIN:STANDARD
TZOFFSETFROM:-0500
TZOFFSETTO:-0600
TZNAME:CST
DTSTART:20231105T070000
END:STANDARD
BEGIN:DAYLIGHT
TZOFFSETFROM:-0600
TZOFFSETTO:-0500
TZNAME:CDT
DTSTART:20240310T080000
END:DAYLIGHT
BEGIN:STANDARD
TZOFFSETFROM:-0500
TZOFFSETTO:-0600
TZNAME:CST
DTSTART:20241103T070000
END:STANDARD
END:VTIMEZONE
BEGIN:VEVENT
DTSTART;TZID=America/Chicago:20230109T190000
DTEND;TZID=America/Chicago:20230109T200000
DTSTAMP:20260419T215749
CREATED:20221214T190605Z
LAST-MODIFIED:20230101T161109Z
UID:10000038-1673290800-1673294400@lareataranch.org
SUMMARY:BOD Meeting
DESCRIPTION:All Meetings of La Reata Ranch Board of Directors (BOD) are open to association members.  The BOD requests that whenever possible\, members notify the BOD of their intention to attend a meeting so that necessary accommodations can be arranged. If you have a topic you would like to raise at the meeting\, please coordinate with the BOD ahead of time so your topic can be added to the agenda. \nAgenda \n\nWelcome\nApprove previous minutes\nDetermine BOD member roles\nSchedule 2023 meetings\nReview FY23 funding requests\nDiscuss FY23 budget\nArchitectural Control Committee\nCommon Grounds Committee\nMeeting Adjournment\nExecutive Session
URL:https://lareataranch.org/event1/bod-meeting/
LOCATION:Poudrier residence\, 172 Wrangler ln\, Smithville\, TX\, 78957\, United States
ORGANIZER;CN="Jason Poudrier":MAILTO:bod@lareataranch.org
END:VEVENT
END:VCALENDAR