BEGIN:VCALENDAR
VERSION:2.0
PRODID:-//La Reata Ranch - ECPv6.15.20//NONSGML v1.0//EN
CALSCALE:GREGORIAN
METHOD:PUBLISH
X-ORIGINAL-URL:https://lareataranch.org
X-WR-CALDESC:Events for La Reata Ranch
REFRESH-INTERVAL;VALUE=DURATION:PT1H
X-Robots-Tag:noindex
X-PUBLISHED-TTL:PT1H
BEGIN:VTIMEZONE
TZID:America/Chicago
BEGIN:DAYLIGHT
TZOFFSETFROM:-0600
TZOFFSETTO:-0500
TZNAME:CDT
DTSTART:20220313T080000
END:DAYLIGHT
BEGIN:STANDARD
TZOFFSETFROM:-0500
TZOFFSETTO:-0600
TZNAME:CST
DTSTART:20221106T070000
END:STANDARD
BEGIN:DAYLIGHT
TZOFFSETFROM:-0600
TZOFFSETTO:-0500
TZNAME:CDT
DTSTART:20230312T080000
END:DAYLIGHT
BEGIN:STANDARD
TZOFFSETFROM:-0500
TZOFFSETTO:-0600
TZNAME:CST
DTSTART:20231105T070000
END:STANDARD
BEGIN:DAYLIGHT
TZOFFSETFROM:-0600
TZOFFSETTO:-0500
TZNAME:CDT
DTSTART:20240310T080000
END:DAYLIGHT
BEGIN:STANDARD
TZOFFSETFROM:-0500
TZOFFSETTO:-0600
TZNAME:CST
DTSTART:20241103T070000
END:STANDARD
END:VTIMEZONE
BEGIN:VEVENT
DTSTART;TZID=America/Chicago:20231014T090000
DTEND;TZID=America/Chicago:20231014T110000
DTSTAMP:20260419T093013
CREATED:20230110T143251Z
LAST-MODIFIED:20231005T023917Z
UID:10000043-1697274000-1697281200@lareataranch.org
SUMMARY:BOD Fall Meeting - NEW LOCATION
DESCRIPTION:All Meetings of La Reata Ranch Board of Directors (BOD) are open to association members.  The BOD requests that whenever possible\, members notify the BOD of their intention to attend a meeting so that necessary accommodations can be arranged. If you have a topic you would like to raise at the meeting\, please coordinate with the BOD ahead of time so your topic can be added to the agenda. \nAgenda-  \n\nApproval of the prior meeting minutes – BOD\nFinancial Report – Justin Bezner\nStatus update on CCR & Bylaw changes – Jason Poudrier\nBOD Election voting\nACC Report – Pete Whitley\nGrounds and Maintenance Report – Gayle
URL:https://lareataranch.org/event1/bod-fall-meeting/
LOCATION:VFW\, Smithville\, TX.\, 557 SH-230 Loop\, Smithville\, TX\, 78957\, United States
ORGANIZER;CN="Jason Poudrier":MAILTO:bod@lareataranch.org
END:VEVENT
END:VCALENDAR