BEGIN:VCALENDAR
VERSION:2.0
PRODID:-//La Reata Ranch - ECPv6.15.20//NONSGML v1.0//EN
CALSCALE:GREGORIAN
METHOD:PUBLISH
X-ORIGINAL-URL:https://lareataranch.org
X-WR-CALDESC:Events for La Reata Ranch
REFRESH-INTERVAL;VALUE=DURATION:PT1H
X-Robots-Tag:noindex
X-PUBLISHED-TTL:PT1H
BEGIN:VTIMEZONE
TZID:UTC
BEGIN:STANDARD
TZOFFSETFROM:+0000
TZOFFSETTO:+0000
TZNAME:UTC
DTSTART:20200101T000000
END:STANDARD
END:VTIMEZONE
BEGIN:VEVENT
DTSTART;TZID=UTC:20210913T190000
DTEND;TZID=UTC:20210913T190000
DTSTAMP:20260423T214949
CREATED:20210520T013153Z
LAST-MODIFIED:20210520T031258Z
UID:10000027-1631559600-1631559600@lareataranch.org
SUMMARY:La Reata Ranch Board of Directors Meetings
DESCRIPTION:
URL:https://lareataranch.org/event1/la-reata-ranch-board-of-directors-meetings-3/
LOCATION:242 Corral Road
END:VEVENT
END:VCALENDAR