BEGIN:VCALENDAR
VERSION:2.0
PRODID:-//La Reata Ranch - ECPv6.15.20//NONSGML v1.0//EN
CALSCALE:GREGORIAN
METHOD:PUBLISH
X-ORIGINAL-URL:https://lareataranch.org
X-WR-CALDESC:Events for La Reata Ranch
REFRESH-INTERVAL;VALUE=DURATION:PT1H
X-Robots-Tag:noindex
X-PUBLISHED-TTL:PT1H
BEGIN:VTIMEZONE
TZID:America/Chicago
BEGIN:DAYLIGHT
TZOFFSETFROM:-0600
TZOFFSETTO:-0500
TZNAME:CDT
DTSTART:20210314T080000
END:DAYLIGHT
BEGIN:STANDARD
TZOFFSETFROM:-0500
TZOFFSETTO:-0600
TZNAME:CST
DTSTART:20211107T070000
END:STANDARD
BEGIN:DAYLIGHT
TZOFFSETFROM:-0600
TZOFFSETTO:-0500
TZNAME:CDT
DTSTART:20220313T080000
END:DAYLIGHT
BEGIN:STANDARD
TZOFFSETFROM:-0500
TZOFFSETTO:-0600
TZNAME:CST
DTSTART:20221106T070000
END:STANDARD
BEGIN:DAYLIGHT
TZOFFSETFROM:-0600
TZOFFSETTO:-0500
TZNAME:CDT
DTSTART:20230312T080000
END:DAYLIGHT
BEGIN:STANDARD
TZOFFSETFROM:-0500
TZOFFSETTO:-0600
TZNAME:CST
DTSTART:20231105T070000
END:STANDARD
BEGIN:DAYLIGHT
TZOFFSETFROM:-0600
TZOFFSETTO:-0500
TZNAME:CDT
DTSTART:20240310T080000
END:DAYLIGHT
BEGIN:STANDARD
TZOFFSETFROM:-0500
TZOFFSETTO:-0600
TZNAME:CST
DTSTART:20241103T070000
END:STANDARD
BEGIN:DAYLIGHT
TZOFFSETFROM:-0600
TZOFFSETTO:-0500
TZNAME:CDT
DTSTART:20250309T080000
END:DAYLIGHT
BEGIN:STANDARD
TZOFFSETFROM:-0500
TZOFFSETTO:-0600
TZNAME:CST
DTSTART:20251102T070000
END:STANDARD
END:VTIMEZONE
BEGIN:VEVENT
DTSTART;TZID=America/Chicago:20240102T190000
DTEND;TZID=America/Chicago:20240102T200000
DTSTAMP:20260423T203729
CREATED:20231206T144315Z
LAST-MODIFIED:20240101T004141Z
UID:10000045-1704222000-1704225600@lareataranch.org
SUMMARY:BOD Meeting
DESCRIPTION:BOD Meeting\nAll Meetings of La Reata Ranch Board of Directors (BOD) are open to association members.  The BOD requests that whenever possible\, members notify the BOD of their intention to attend a meeting so that necessary accommodations can be arranged. If you have a topic you would like to raise at the meeting\, please coordinate with the BOD ahead of time so your topic can be added to the agenda.\n\n\nAgenda\n\n\nApprove previous minutes\nDetermine BOD member roles\nSchedule 2024 meetings\nReview and Approve FY24 budget\nDiscuss 209.0061 Property Code changes\nArchitectural Control Committee\nCommon Grounds Committee\nDiscuss next steps for CCR & Bylaw changes\nMeeting Adjournment\nExecutive Session\n\n 
URL:https://lareataranch.org/event1/bod-meeting-6/
LOCATION:Poudrier residence\, 172 Wrangler ln\, Smithville\, TX\, 78957\, United States
END:VEVENT
BEGIN:VEVENT
DTSTART;TZID=America/Chicago:20231204T190000
DTEND;TZID=America/Chicago:20231204T200000
DTSTAMP:20260423T203729
CREATED:20230110T143353Z
LAST-MODIFIED:20230110T143353Z
UID:10000044-1701716400-1701720000@lareataranch.org
SUMMARY:BOD Meeting
DESCRIPTION:All Meetings of La Reata Ranch Board of Directors (BOD) are open to association members.  The BOD requests that whenever possible\, members notify the BOD of their intention to attend a meeting so that necessary accommodations can be arranged. If you have a topic you would like to raise at the meeting\, please coordinate with the BOD ahead of time so your topic can be added to the agenda. \nAgenda- TBD
URL:https://lareataranch.org/event1/bod-meeting-5/
LOCATION:Poudrier residence\, 172 Wrangler ln\, Smithville\, TX\, 78957\, United States
ORGANIZER;CN="Jason Poudrier":MAILTO:bod@lareataranch.org
END:VEVENT
BEGIN:VEVENT
DTSTART;TZID=America/Chicago:20230807T190000
DTEND;TZID=America/Chicago:20230807T200000
DTSTAMP:20260423T203729
CREATED:20230110T143141Z
LAST-MODIFIED:20230110T143141Z
UID:10000042-1691434800-1691438400@lareataranch.org
SUMMARY:BOD Meeting
DESCRIPTION:All Meetings of La Reata Ranch Board of Directors (BOD) are open to association members.  The BOD requests that whenever possible\, members notify the BOD of their intention to attend a meeting so that necessary accommodations can be arranged. If you have a topic you would like to raise at the meeting\, please coordinate with the BOD ahead of time so your topic can be added to the agenda. \nAgenda- TBD
URL:https://lareataranch.org/event1/bod-meeting-4/
LOCATION:Poudrier residence\, 172 Wrangler ln\, Smithville\, TX\, 78957\, United States
ORGANIZER;CN="Jason Poudrier":MAILTO:bod@lareataranch.org
END:VEVENT
BEGIN:VEVENT
DTSTART;TZID=America/Chicago:20230605T190000
DTEND;TZID=America/Chicago:20230605T200000
DTSTAMP:20260423T203729
CREATED:20230110T143049Z
LAST-MODIFIED:20230605T011758Z
UID:10000041-1685991600-1685995200@lareataranch.org
SUMMARY:BOD Meeting Cancelled
DESCRIPTION:Cancelled 
URL:https://lareataranch.org/event1/bod-meeting-3/
LOCATION:Poudrier residence\, 172 Wrangler ln\, Smithville\, TX\, 78957\, United States
ORGANIZER;CN="Jason Poudrier":MAILTO:bod@lareataranch.org
END:VEVENT
BEGIN:VEVENT
DTSTART;TZID=America/Chicago:20230306T190000
DTEND;TZID=America/Chicago:20230306T200000
DTSTAMP:20260423T203729
CREATED:20230110T142802Z
LAST-MODIFIED:20230302T153349Z
UID:10000039-1678129200-1678132800@lareataranch.org
SUMMARY:BOD Meeting
DESCRIPTION:All Meetings of La Reata Ranch Board of Directors (BOD) are open to association members.  The BOD requests that whenever possible\, members notify the BOD of their intention to attend a meeting so that necessary accommodations can be arranged. If you have a topic you would like to raise at the meeting\, please coordinate with the BOD ahead of time so your topic can be added to the agenda. \nAgenda-  \nApproval of the prior meeting minutes – BOD\nFinancial Report – Justin Bezner\nReview Budget Approval – Justin Bezner\nSpring meeting planning\nACC Report – Pete Whitley\nGrounds and Maintenance Report – Gayle\nExecutive Session – BOD
URL:https://lareataranch.org/event1/bod-meeting-2/
LOCATION:Poudrier residence\, 172 Wrangler ln\, Smithville\, TX\, 78957\, United States
ORGANIZER;CN="Jason Poudrier":MAILTO:bod@lareataranch.org
END:VEVENT
BEGIN:VEVENT
DTSTART;TZID=America/Chicago:20230109T190000
DTEND;TZID=America/Chicago:20230109T200000
DTSTAMP:20260423T203729
CREATED:20221214T190605Z
LAST-MODIFIED:20230101T161109Z
UID:10000038-1673290800-1673294400@lareataranch.org
SUMMARY:BOD Meeting
DESCRIPTION:All Meetings of La Reata Ranch Board of Directors (BOD) are open to association members.  The BOD requests that whenever possible\, members notify the BOD of their intention to attend a meeting so that necessary accommodations can be arranged. If you have a topic you would like to raise at the meeting\, please coordinate with the BOD ahead of time so your topic can be added to the agenda. \nAgenda \n\nWelcome\nApprove previous minutes\nDetermine BOD member roles\nSchedule 2023 meetings\nReview FY23 funding requests\nDiscuss FY23 budget\nArchitectural Control Committee\nCommon Grounds Committee\nMeeting Adjournment\nExecutive Session
URL:https://lareataranch.org/event1/bod-meeting/
LOCATION:Poudrier residence\, 172 Wrangler ln\, Smithville\, TX\, 78957\, United States
ORGANIZER;CN="Jason Poudrier":MAILTO:bod@lareataranch.org
END:VEVENT
BEGIN:VEVENT
DTSTART;TZID=America/Chicago:20221212T190000
DTEND;TZID=America/Chicago:20221212T200000
DTSTAMP:20260423T203729
CREATED:20220107T214121Z
LAST-MODIFIED:20221205T003100Z
UID:10000035-1670871600-1670875200@lareataranch.org
SUMMARY:LRR BOD Meeting
DESCRIPTION:All Meetings of La Reata Ranch Board of Directors (BOD) are open to association members.  The BOD requests that whenever possible\, members notify the BOD of their intention to attend a meeting so that necessary accommodations can be arranged. If you have a topic you would like to raise at the meeting\, please coordinate with the BOD ahead of time so your topic can be added to the agenda. \nAgenda \n\nWelcome\nApprove previous minutes\nSchedule January meeting\nFinancial Review\nArchitectural Control Committee\nDiscuss neighborhood communication\nRecognize April Daniels presentation\nMeeting Adjournment\nExecutive Session\n\n 
URL:https://lareataranch.org/event1/lrr-bod-meeting-5/
LOCATION:Poudrier residence\, 172 Wrangler ln\, Smithville\, TX\, 78957\, United States
ORGANIZER;CN="Jason Poudrier":MAILTO:bod@lareataranch.org
END:VEVENT
BEGIN:VEVENT
DTSTART;TZID=America/Chicago:20220808T190000
DTEND;TZID=America/Chicago:20220808T200000
DTSTAMP:20260423T203729
CREATED:20220107T214020Z
LAST-MODIFIED:20220726T195328Z
UID:10000034-1659985200-1659988800@lareataranch.org
SUMMARY:LRR BOD Meeting
DESCRIPTION:All Meetings of La Reata Ranch Board of Directors (BOD) are open to association members.  The BOD requests that whenever possible\, members notify the BOD of their intention to attend a meeting so that necessary accommodations can be arranged. If you have a topic you would like to raise at the meeting\, please coordinate with the BOD ahead of time so your topic can be added to the agenda. \nAgenda \n1. Welcome – Jason Poudrier\n2. Approve 6/13/22 meeting minutes\n3. Financial Update\n        a. Checkpoint on Budget\n        b. Discuss POA Fees\n4. Architectural Control Committee\n5. Garden Committee\n        a. Dead branches at entrance\n        b. Brush piles at entrance\n6. Election Committee\n        a. Volunteer needs\n7. Fall meeting\n        a. Guest Speakers\nb. When to send notices\n8. CCR changes update\n9. Deer Issues\n10. Executive Session\n11. Adjournment\n 
URL:https://lareataranch.org/event1/lrr-bod-meeting-4/
LOCATION:Poudrier residence\, 172 Wrangler ln\, Smithville\, TX\, 78957\, United States
ORGANIZER;CN="Jason Poudrier":MAILTO:bod@lareataranch.org
END:VEVENT
BEGIN:VEVENT
DTSTART;TZID=America/Chicago:20220613T190000
DTEND;TZID=America/Chicago:20220613T200000
DTSTAMP:20260423T203729
CREATED:20220107T213853Z
LAST-MODIFIED:20220602T021433Z
UID:10000033-1655146800-1655150400@lareataranch.org
SUMMARY:LRR BOD Meeting
DESCRIPTION:All Meetings of La Reata Ranch Board of Directors (BOD) are open to association members.  The BOD requests that whenever possible\, members notify the BOD of their intention to attend a meeting so that necessary accommodations can be arranged. If you have a topic you would like to raise at the meeting\, please coordinate with the BOD ahead of time so your topic can be added to the agenda. \nAgenda \n\n\nWelcome – Jason Poudrier \n\n\nApprove 4/09/22 meeting minutes \n\n\nFinancial Update \n\n\nFunding for fall meeting catering \n\n\nRepairs – Trees\, Sprinklers\, Flags\, Etc. \n\n\nNeighborhood pedestrian safety \n\n\nArchitectural Control Committee \n\n\nGarden Committee \n\n\nMember Communication – general\, spring/fall\, agenda’s\, etc. \n\n\nEnd of year elections \n\n\nCCR changes for City/County/State/Federal standards \n\n\nExecutive Session \n\n\nAdjournment \n\n\n 
URL:https://lareataranch.org/event1/lrr-bod-meeting-3/
LOCATION:Poudrier residence\, 172 Wrangler ln\, Smithville\, TX\, 78957\, United States
ORGANIZER;CN="Jason Poudrier":MAILTO:bod@lareataranch.org
END:VEVENT
BEGIN:VEVENT
DTSTART;TZID=America/Chicago:20220307T190000
DTEND;TZID=America/Chicago:20220307T200000
DTSTAMP:20260423T203729
CREATED:20220107T071426Z
LAST-MODIFIED:20220223T204455Z
UID:10000032-1646679600-1646683200@lareataranch.org
SUMMARY:LRR BOD Meeting
DESCRIPTION:All Meetings of La Reata Ranch Board of Directors (BOD) are open to association members.  The BOD requests that whenever possible\, members notify the BOD of their intention to attend a meeting so that necessary accommodations can be arranged. If you have a topic you would like to raise at the meeting\, please coordinate with the BOD ahead of time so your topic can be added to the agenda. \nAgenda \n\nWelcome – Jason Poudrier\nApprove 1/16/22 meeting minutes\nReview & approve annual budget – Daniel Igoe\nArchitectural Control Committee – Pete Whitley\nNature trail maintenance – Jason Poudrier\nWebsite maintenance – Jason Poudrier\nMember contact info – Jason Poudrier\nDumpster results – Justin Bezner\nNeighborhood Cleanup results\nDiscuss Spring meeting date and needs\nExecutive Session\n\nLawsuit\nPrivate property matters\n\n\nAdjournment\n\n  \n 
URL:https://lareataranch.org/event1/lrr-bod-meeting-2/
LOCATION:Poudrier residence\, 172 Wrangler ln\, Smithville\, TX\, 78957\, United States
ORGANIZER;CN="Jason Poudrier":MAILTO:bod@lareataranch.org
END:VEVENT
BEGIN:VEVENT
DTSTART;TZID=America/Chicago:20220116T170000
DTEND;TZID=America/Chicago:20220116T180000
DTSTAMP:20260423T203729
CREATED:20220107T070626Z
LAST-MODIFIED:20220107T071038Z
UID:10000031-1642352400-1642356000@lareataranch.org
SUMMARY:LRR BOD Meeting
DESCRIPTION:All Meetings of La Reata Ranch Board of Directors (BOD) are open to association members.  The BOD requests that whenever possible\, members notify the BOD of their intention to attend a meeting so that necessary accommodations can be arranged. If you have a topic you would like to raise at the meeting\, please coordinate with the BOD ahead of time so your topic can be added to the agenda. \nAgenda \n\nWelcome\nApprove consent agenda\nApprove annual budget\nConsideration of and possible action to adopt a daily fine for individuals residing on lots without an approved dwelling in violation of the CCR’s\nArchitectural Control Committee\nCommon Area Committee\nElections Committee\nGovernment Relations\nAnnouncements\n\n2022 Neighborhood Cleanup\n\n\nExecutive Session\n\nLawsuit\nPrivate property matters\n\n\nAdjournment\n\n 
URL:https://lareataranch.org/event1/lrr-bod-meeting/
LOCATION:Poudrier residence\, 172 Wrangler ln\, Smithville\, TX\, 78957\, United States
ORGANIZER;CN="Jason Poudrier":MAILTO:bod@lareataranch.org
END:VEVENT
END:VCALENDAR